BEGIN:VCALENDAR
VERSION:2.0
PRODID:-//Drupal//DD Create//EN
METHOD:PUBLISH
BEGIN:VEVENT
UID:dd_create.11520.0
DTSTAMP:20260422T003228Z
DTSTART:20230130T080000Z
DTEND:20230130T080000Z
SUMMARY:February Hot Lunch Orders Due
URL;VALUE=URI:https://www.stignatiussacschool.org/school-event/february-hot-lunch-orders-due-2
END:VEVENT
END:VCALENDAR
