BEGIN:VCALENDAR
VERSION:2.0
PRODID:-//Drupal//DD Create//EN
METHOD:PUBLISH
BEGIN:VEVENT
UID:dd_create.2424.0
DTSTAMP:20260421T110907Z
DTSTART:20131209T000000Z
DTEND:20131209T034000Z
SUMMARY:"It's A Wonderful Life"
URL;VALUE=URI:https://www.stignatiussacschool.org/post/its-wonderful-life
END:VEVENT
END:VCALENDAR
